BEGIN:VCALENDAR
VERSION:2.0
PRODID:-//Zubřan.cz - ECPv4.6.11.1//NONSGML v1.0//EN
CALSCALE:GREGORIAN
METHOD:PUBLISH
X-WR-CALNAME:Zubřan.cz
X-ORIGINAL-URL:https://www.zubran.cz
X-WR-CALDESC:Events for Zubřan.cz
BEGIN:VEVENT
DTSTART;TZID=UTC+0:20241113T180000
DTEND;TZID=UTC+0:20241113T193000
DTSTAMP:20260424T003943
CREATED:20241030T174805Z
LAST-MODIFIED:20241030T174805Z
UID:39512-1731520800-1731526200@www.zubran.cz
SUMMARY:Zubří včera a dnes 2
DESCRIPTION:Zuberští filmaři Jaromír Kulpa a Josef Krupa\, kteří si získali obdiv diváků svým předchozím filmem „Zubří včera a dnes“\, přicházejí s dalším projektem\, který opět zaujme každého\, kdo má k městu blízko. Nové pokračování vás zavede do různých koutů Zubří\, kde budete moci nahlédnout do historie i současnosti tohoto místa. Film slibuje pohled na neznámé nebo zapomenuté části města a přináší další příběhy. \nVstupné dobrovolné. \nRezervace míst ZDE\n\n\n
URL:https://www.zubran.cz/akce/zubri-vcera-a-dnes-2/
LOCATION:Hamerská 10\, 756 54\, Zubří\, 756 54
ATTACH;FMTTYPE=image/png:https://www.zubran.cz/wp-content/uploads/2024/10/16_Zubri-vcera-a-dnes.png
ORGANIZER;CN="M%C4%9Bsto%20Zub%C5%99%C3%AD%20-%20Kultura":MAILTO:kultura@mesto-zubri.cz
END:VEVENT
END:VCALENDAR