BEGIN:VCALENDAR
VERSION:2.0
PRODID:-//Zubřan.cz - ECPv4.6.11.1//NONSGML v1.0//EN
CALSCALE:GREGORIAN
METHOD:PUBLISH
X-WR-CALNAME:Zubřan.cz
X-ORIGINAL-URL:https://www.zubran.cz
X-WR-CALDESC:Events for Zubřan.cz
BEGIN:VEVENT
DTSTART;VALUE=DATE:20140906
DTEND;VALUE=DATE:20140907
DTSTAMP:20260421T155740
CREATED:20140814T121112Z
LAST-MODIFIED:20140904T082421Z
UID:10961-1409961600-1410047999@www.zubran.cz
SUMMARY:ZUBŘÍ OPEN 2014
DESCRIPTION:V sobotu 6. září se uskuteční druhý ročník tenisového turnaje ve čtyřhrách Zubří OPEN 2014. Hraje se stejně jako vloni na třech antukových kurtech Polyfunkčního centra. Prezentace bude probíhat v místě konání od 8.00 do 8.15 hodin\, začátek turnaje je plánován na 8.30 hodin. Vzhledem k počtu kurtů jsme byli opět nuceni omezit počet startujících dvojic a to na čtyřiadvacet. I tak je to o čtyři více jako vloni. Dvaadvacet párů je mužských\, dva páry smíšené. Budou rozděleny do šesti skupin po čtyřech a do play off postoupí šestnáct nejlepších z nich. Hraje se na jeden set. TURNAJ JE JIŽ PLNĚ OBSAZEN!!! \nVideo pozvánka zde: \n \nObhájí prvenství Jirka Fiedler s Petrem Štůskem\, kteří ve finále porazili Pavla Pernicu a Roberta Jurajdu? Nebo na prvenství dosáhnou minulý rok bronzoví Štěpán Krůpa s Jirkou Poláškem a Jarek Jurajda s Tomášem Vlkem (Jarek s novým partnerem Petrem Matulou)? Nebo někdo další? I z letos nově přihlášených? Na to si ještě chvilku počkáme. Každopádně přihlášené dvojice slibují větší kvalitu než při prvním ročníku!! Máme se na co těšit!! \nRozlosování se uskuteční ve středu 3. září\, bude zveřejněno na těchto stránkách a FB stránkách Sportoviště města Zubří. Rozlosování zde: http://sport.mesto-zubri.cz/image/data/dokumenty/Syst%C3%A9m%20turnaje%20%C4%8Dty%C5%99hra%202014-skupiny.pdf \nNa sestřih z losování turnaje se můžete podívat na tomto odkazu: \n \nKaždý účastník se zúčastní akce na vlastní nebezpečí!! Srdečně zveme diváky\, aby přišli podpořit své favority! Občerstvení zajištěno!! \nPartnery akce jsou Město Zubří\, Sportovní poháry – PS\, kavárna TIP cafe\, LB silver a Coloria. \n\n\n
URL:https://www.zubran.cz/akce/zubri-open-2014/
LOCATION:Zubří\, 75654
ATTACH;FMTTYPE=image/jpeg:https://www.zubran.cz/wp-content/uploads/2014/08/zubří_open-02web-bez-start50.jpg
ORGANIZER;CN="Josef%20Randus":MAILTO:Josef.randus@mesto-zubri.cz
END:VEVENT
END:VCALENDAR