BEGIN:VCALENDAR
VERSION:2.0
PRODID:-//Zubřan.cz - ECPv4.6.11.1//NONSGML v1.0//EN
CALSCALE:GREGORIAN
METHOD:PUBLISH
X-WR-CALNAME:Zubřan.cz
X-ORIGINAL-URL:https://www.zubran.cz
X-WR-CALDESC:Events for Zubřan.cz
BEGIN:VEVENT
DTSTART;TZID=UTC+0:20160325T180000
DTEND;TZID=UTC+0:20160325T200000
DTSTAMP:20260422T062631
CREATED:20160216T210302Z
LAST-MODIFIED:20160224T094202Z
UID:25081-1458928800-1458936000@www.zubran.cz
SUMMARY:ZRUŠENO !!! DIVADLO KALICH - BOŽSKÁ SARAH 
DESCRIPTION:V souvislosti se zdravotními problémy paní Ivy Janžurové Vám musíme oznámit\, že je nutné přistoupit ke změnám v pátečním cyklu Divadelního předplatného. Děláme vše pro to\, aby se programová skladba předplatného nezměnila a abychom Vám slíbené hry „naservírovali“ všechny\, jen v jiném pořadí. \nJisté je\, že nový termín pro představení Divadla Kalich – Božská Sarah\, se hledá na podzim tohoto roku. Sama Iva Janžurová prostřednictvím médií vzkázala: „Těším se na všechny diváky a slibuju\, že nic nezmeškám. Všechno společně doženeme.“ \nInformace pro předplatitele\nO všech případných změnách v programu předplatného Vás budeme včas informovat. Konečné rozhodnutí by mělo padnout do konce tohoto týdne. Informace Vám budou doručeny e-mailem a budou zveřejněny na stránkách http://kultura.mesto-zubri.cz. \nInformace pro ty z Vás\, kteří si již zakoupili vstupenky v doprodeji\nPředstavení Božská Sarah Divadla Kalich\, plánované na 25. 3. 2016\, se ruší. S největší pravděpodobností bude uvedeno v Klubu Zubří v náhradním termínu na podzim tohoto roku. Kontaktujte nás na níže uvedených číslech nebo e-mailu\, zapíšeme si Vaše kontaktní údaje\, abychom Vás mohli včas informovat o možnosti vrácení vstupného\, případně novém termínu představení. \nVšem se omlouváme za vzniklé komplikace a věříme\, že přes nepřízeň osudu dostojíme našim slibům a že budete s divadelní sezónou v Zubří spokojeni. Paní Janžurové přejeme brzké uzdravení a dostatek elánu k tomu\, aby se brzy vrátila mezi své kolegy na jeviště a k věrným divákům. \n\n		\n			#gallery-1 {\n				margin: auto;\n			}\n			#gallery-1 .gallery-item {\n				float: left;\n				margin-top: 10px;\n				text-align: center;\n				width: 33%;\n			}\n			#gallery-1 img {\n				border: 2px solid #cfcfcf;\n			}\n			#gallery-1 .gallery-caption {\n				margin-left: 0;\n			}\n			/* see gallery_shortcode() in wp-includes/media.php */\n		\n		\n			\n				\n			\n			\n				\n			\n			\n				\n			\n			\n				\n			\n			\n				\n			\n			\n				\n			\n			\n				\n			\n			\n		\n\n\n
URL:https://www.zubran.cz/akce/zruseno-divadlo-kalich-bozska-sarah/
LOCATION:Hamerská 10\, 756 54\, Zubří\, 756 54
ATTACH;FMTTYPE=image/jpeg:https://www.zubran.cz/wp-content/uploads/2016/02/božska-sarah-1.jpg
ORGANIZER;CN="M%C4%9Bsto%20Zub%C5%99%C3%AD%20-%20Kultura":MAILTO:kultura@mesto-zubri.cz
END:VEVENT
END:VCALENDAR