BEGIN:VCALENDAR
VERSION:2.0
PRODID:-//Zubřan.cz - ECPv4.6.11.1//NONSGML v1.0//EN
CALSCALE:GREGORIAN
METHOD:PUBLISH
X-WR-CALNAME:Zubřan.cz
X-ORIGINAL-URL:https://www.zubran.cz
X-WR-CALDESC:Events for Zubřan.cz
BEGIN:VEVENT
DTSTART;TZID=UTC+0:20260228T150000
DTEND;TZID=UTC+0:20260228T180000
DTSTAMP:20260424T085832
CREATED:20260114T131900Z
LAST-MODIFIED:20260114T131900Z
UID:40273-1772290800-1772301600@www.zubran.cz
SUMMARY:Zelí z valašských sklepů a chleba z domácí trúby
DESCRIPTION:Muzeum Zubří ve spolupráci se ZO ČZS Zubří zve všechny milovníky tradiční valašské kuchyně na 1. ročník soutěže o nejchutnější kysané zelí a domácí chléb. \nČeká vás odpoledne plné vůní\, chutí a vzpomínek na poctivé domácí vaření. Přijďte ochutnat soutěžní vzorky\, podpořit místní zahrádkáře a připomenout si\, jak chutná tradice. \nKdy a kde se potkáme\nSobota 28. února 2026 od 15:00 hodin Muzeum Zubří\, Hlavní 824\, Zubří \n\nChcete se zapojit do soutěže?\nSoutěžící mohou své vzorky kysaného zelí a domácího chleba přinést v den konání mezi 13:00–15:00 hodinou přímo do Muzea Zubří. \n\nOchutnejte tradici\, která má křupnutí i vůni domova. \n  \n\n\n
URL:https://www.zubran.cz/akce/zeli-z-valasskych-sklepu-a-chleba-z-domaci-truby/
LOCATION:Hlavní 824\, Zubří\, 75654
ATTACH;FMTTYPE=image/png:https://www.zubran.cz/wp-content/uploads/2026/01/Muzeum-Zubří-a-e1768396729576.png
ORGANIZER;CN="Muzeum%20Zub%C5%99%C3%AD":MAILTO:muzeum@mesto-zubri.cz
END:VEVENT
END:VCALENDAR