BEGIN:VCALENDAR
VERSION:2.0
PRODID:-//Zubřan.cz - ECPv4.6.11.1//NONSGML v1.0//EN
CALSCALE:GREGORIAN
METHOD:PUBLISH
X-WR-CALNAME:Zubřan.cz
X-ORIGINAL-URL:https://www.zubran.cz
X-WR-CALDESC:Events for Zubřan.cz
BEGIN:VEVENT
DTSTART;TZID=UTC+0:20170422T103000
DTEND;TZID=UTC+0:20170422T170000
DTSTAMP:20260423T115255
CREATED:20170410T054859Z
LAST-MODIFIED:20170410T055118Z
UID:29245-1492857000-1492880400@www.zubran.cz
SUMMARY:Závod v estetické skupinové gymnastice - ESG Cup III. 2017
DESCRIPTION:Závod v estetické skupinové gymnastice – ESG Cup III. 2017 \n\n\n
URL:https://www.zubran.cz/akce/zavod-v-esteticke-skupinove-gymnastice-esg-cup-iii-2017/
LOCATION:Hlavní 492\,\, Zubří\, 75654
ATTACH;FMTTYPE=image/jpeg:https://www.zubran.cz/wp-content/uploads/2017/04/web.-plakát-2017.jpg
END:VEVENT
END:VCALENDAR