BEGIN:VCALENDAR
VERSION:2.0
PRODID:-//Zubřan.cz - ECPv4.6.11.1//NONSGML v1.0//EN
CALSCALE:GREGORIAN
METHOD:PUBLISH
X-WR-CALNAME:Zubřan.cz
X-ORIGINAL-URL:https://www.zubran.cz
X-WR-CALDESC:Events for Zubřan.cz
BEGIN:VEVENT
DTSTART;TZID=UTC+0:20260430T170000
DTEND;TZID=UTC+0:20260531T170000
DTSTAMP:20260421T165352
CREATED:20260421T134807Z
LAST-MODIFIED:20260421T134807Z
UID:40447-1777568400-1780246800@www.zubran.cz
SUMMARY:Výstava - Příroda objektivem čtyř fotografů
DESCRIPTION:Muzeum Zubří srdečně zve do Výstavní galerie Petrohrad na fotografickou výstavu „Příroda objektivem čtyř fotografů“. \nVýstava představuje tvorbu čtyř autorů – Samuela Martináka\, Roberta Zámečníka\, Vladimíra Dobeše a Pavla Czinegeho\, které spojuje společná vášeň pro přírodu a fotografii. \nSetkání tří generací\, od nejmladšího autora\, který s fotografií teprve začíná\, až po zkušeného fotografa s více než šedesátiletou praxí\, přináší rozmanité pohledy na krajinu i její detaily. \nFotografie zde nejsou zásahem\, ale pozorováním. Bez spěchu a bez narušení zachycují tiché okamžiky přírody – od světa ukrytého v trávě\, přes prostor mezi stromy\, až po odrazy vody a otevřenou krajinu. \nVýstava bude zahájena slavnostní vernisáží v pátek 30. dubna 2026 od 17.00 hodin. Potrvá do 31. května 2026 a otevřena bude vždy od středy do neděle\, v čase od 14.00 do 17.00 hodin. \nPřijďte se zastavit a podívat se na přírodu jinýma očima. \n\n\n
URL:https://www.zubran.cz/akce/vystava-priroda-objektivem-ctyr-fotografu/
LOCATION:Zubří\, Zlínský kraj\, 75654\, Česká republika
ATTACH;FMTTYPE=image/png:https://www.zubran.cz/wp-content/uploads/2026/04/finál-2-e1776779273499.png
ORGANIZER;CN="Muzeum%20Zub%C5%99%C3%AD":MAILTO:muzeum@mesto-zubri.cz
END:VEVENT
END:VCALENDAR