BEGIN:VCALENDAR
VERSION:2.0
PRODID:-//Zubřan.cz - ECPv4.6.11.1//NONSGML v1.0//EN
CALSCALE:GREGORIAN
METHOD:PUBLISH
X-WR-CALNAME:Zubřan.cz
X-ORIGINAL-URL:https://www.zubran.cz
X-WR-CALDESC:Events for Zubřan.cz
BEGIN:VEVENT
DTSTART;TZID=UTC+0:20140212T180000
DTEND;TZID=UTC+0:20140212T203000
DTSTAMP:20260419T185640
CREATED:20140212T104250Z
LAST-MODIFIED:20140212T104250Z
UID:5492-1392228000-1392237000@www.zubran.cz
SUMMARY:VYHAZOVAČI\, Divadlo Radka Brzobohatého
DESCRIPTION:Divadlo zařazené do programu DIVADELNÍHO PŘEDPLATNÉHO 2014. VYPRODÁNO! \nNeuvěřitelně vtipný a nesmírně lidský příběh se točí kolem disco klubu Cinders. 4 vyhazovači\, na první pohled tvrdí a ostřílení chlapíci\, kteří musí pohotově rozhodnout\, náctiletí hoši připravující se na svůj velký večer\, roztomilé nakadeřené slečny užívající si narozeninovou párty\, 1 kněz\, 2 rapeři a mnoho dalších postav ztvárněných čtyřmi zpívajícími herci. Komická paleta lidských charakterů\, z nichž ovšem každý nabízí svůj osobitý příběh. \nEnergií sršící hudební komedii dominuje skvělá hudba a písně Ondřeje Brzobohatého. \n Hrají: Ondřej Brzobohatý\, Petr Vágner\, Ernesto Čekan\, Vojtěch Hájek. \nAutor: John Godber \nRežie:  Marian Kleis \nHudba:  Ondřej Brzobohatý \n  \n\n \n\n\n
URL:https://www.zubran.cz/akce/vyhazovaci-divadlo-radka-brzobohateho/
LOCATION:Hamerská 10\, 756 54\, Zubří\, 756 54
CATEGORIES:Kultura,Vše
ATTACH;FMTTYPE=image/jpeg:https://www.zubran.cz/wp-content/uploads/2014/02/12.2.-divadlo-radka-brzobohatého.jpg
END:VEVENT
END:VCALENDAR