BEGIN:VCALENDAR
VERSION:2.0
PRODID:-//Zubřan.cz - ECPv4.6.11.1//NONSGML v1.0//EN
CALSCALE:GREGORIAN
METHOD:PUBLISH
X-WR-CALNAME:Zubřan.cz
X-ORIGINAL-URL:https://www.zubran.cz
X-WR-CALDESC:Events for Zubřan.cz
BEGIN:VEVENT
DTSTART;TZID=UTC+0:20131224T150000
DTEND;TZID=UTC+0:20131224T170000
DTSTAMP:20260422T143309
CREATED:20131201T104716Z
LAST-MODIFIED:20131216T095130Z
UID:3697-1387897200-1387904400@www.zubran.cz
SUMMARY:Vítání Ježíška v kostele sv. Kateřiny
DESCRIPTION:Přijďte i Vy na Vítání Ježíška do kostela sv. Kateřiny. \n \n\n\n
URL:https://www.zubran.cz/akce/vitani-jeziska/
LOCATION:ThDr. Metoděje Mičoly 59\, Zubří\, 75654
ATTACH;FMTTYPE=image/jpeg:https://www.zubran.cz/wp-content/uploads/2013/12/Ježíšek.jpg
ORGANIZER;CN="Farnost%20Zub%C5%99%C3%AD":MAILTO:fazubri@ado.cz
END:VEVENT
END:VCALENDAR