BEGIN:VCALENDAR
VERSION:2.0
PRODID:-//Zubřan.cz - ECPv4.6.11.1//NONSGML v1.0//EN
CALSCALE:GREGORIAN
METHOD:PUBLISH
X-WR-CALNAME:Zubřan.cz
X-ORIGINAL-URL:https://www.zubran.cz
X-WR-CALDESC:Events for Zubřan.cz
BEGIN:VEVENT
DTSTART;TZID=UTC+0:20141129T100000
DTEND;TZID=UTC+0:20141129T180000
DTSTAMP:20260421T053550
CREATED:20141030T142457Z
LAST-MODIFIED:20141124T141617Z
UID:14086-1417255200-1417284000@www.zubran.cz
SUMMARY:Vánoční jarmark a rozsvícení vánočního stromu
DESCRIPTION:Vánoční jarmark v Zubří\nsobota 29. 11. 2014 \nod 10:00 hodin v Klidovém centru Zubří \nDoprovodný program\nDopoledne: \nFaraoni (10 hod.) \nOdpoledne od 14.00 hodin: \nFaraoni (14 hod.) \nVSPT Beskyd (15.30)) \nSchola od Sv. Kateřiny (16.15 hod.) \nMŠ Sídliště (16.45 hod.) \nRozsvícení vánočního stromu (17.00 hod.) \n\n\n
URL:https://www.zubran.cz/akce/vanocni-jarmark-a-rozsviceni-vanocniho-stromu/
LOCATION:Hlavní\, Zubří\, 756 54\, Česká republika
CATEGORIES:Kultura,Vše
ATTACH;FMTTYPE=image/jpeg:https://www.zubran.cz/wp-content/uploads/2014/10/vánoční-jarmark-upravený-menší.jpg
END:VEVENT
END:VCALENDAR