BEGIN:VCALENDAR
VERSION:2.0
PRODID:-//Zubřan.cz - ECPv4.6.11.1//NONSGML v1.0//EN
CALSCALE:GREGORIAN
METHOD:PUBLISH
X-WR-CALNAME:Zubřan.cz
X-ORIGINAL-URL:https://www.zubran.cz
X-WR-CALDESC:Events for Zubřan.cz
BEGIN:VEVENT
DTSTART;TZID=UTC+0:20260211T170000
DTEND;TZID=UTC+0:20260211T190000
DTSTAMP:20260424T053721
CREATED:20260119T140359Z
LAST-MODIFIED:20260119T140359Z
UID:40283-1770829200-1770836400@www.zubran.cz
SUMMARY:Superpes Karlík – promítání kina
DESCRIPTION:Když pes získá superschopnosti… svět už nikdy nebude stejný. Jednoho dne Karlíka unesou mimozemšťani a předají mu neuvěřitelné schopnosti\, aby se z něj stal super hrdina. Jenže ani hrdinové to nemají jednoduché. Sousedův Kocour\, temný mistr vlastních tajemných schopností\, odmítá žít ve stínu psí legendy. Se svým kočičím gangem proto vymyslí ďábelský plán\, jak zbavit Karlíka jeho super schopností\, srazit lidstvo na kola a nastolit na planetě Zemi nový kočičí řád. Blíží se souboj\, který rozhodne o všem: Pes proti kočce\, hrdina proti padouchovi! Podaří se Karlíkovi zachránit lidstvo a znovu si užívat klidu se svým nejlepším kamarádem Dannym? \nVstupné: 140 Kč \nVstupenky k zakoupení ZDE\n\n\n
URL:https://www.zubran.cz/akce/superpes-karlik-promitani-kina/
LOCATION:Hamerská 10\, 756 54\, Zubří\, 756 54
ATTACH;FMTTYPE=image/png:https://www.zubran.cz/wp-content/uploads/2026/01/08_superpes.png
ORGANIZER;CN="M%C4%9Bsto%20Zub%C5%99%C3%AD%20-%20Kultura":MAILTO:kultura@mesto-zubri.cz
END:VEVENT
END:VCALENDAR