BEGIN:VCALENDAR
VERSION:2.0
PRODID:-//Zubřan.cz - ECPv4.6.11.1//NONSGML v1.0//EN
CALSCALE:GREGORIAN
METHOD:PUBLISH
X-WR-CALNAME:Zubřan.cz
X-ORIGINAL-URL:https://www.zubran.cz
X-WR-CALDESC:Events for Zubřan.cz
BEGIN:VEVENT
DTSTART;TZID=UTC+0:20150320T163000
DTEND;TZID=UTC+0:20150320T180000
DTSTAMP:20260419T133110
CREATED:20150306T095511Z
LAST-MODIFIED:20150306T095511Z
UID:18565-1426869000-1426874400@www.zubran.cz
SUMMARY:Současné proměny náboženství
DESCRIPTION:  \n \n\n\n
URL:https://www.zubran.cz/akce/soucasne-promeny-nabozenstvi/
LOCATION:Česká republika
ATTACH;FMTTYPE=image/jpeg:https://www.zubran.cz/wp-content/uploads/2015/03/KA_halik_web-page-001.jpg
END:VEVENT
END:VCALENDAR