BEGIN:VCALENDAR
VERSION:2.0
PRODID:-//Zubřan.cz - ECPv4.6.11.1//NONSGML v1.0//EN
CALSCALE:GREGORIAN
METHOD:PUBLISH
X-WR-CALNAME:Zubřan.cz
X-ORIGINAL-URL:https://www.zubran.cz
X-WR-CALDESC:Events for Zubřan.cz
BEGIN:VEVENT
DTSTART;TZID=UTC+0:20170211T190000
DTEND;TZID=UTC+0:20170211T190000
DTSTAMP:20260422T054937
CREATED:20170118T113246Z
LAST-MODIFIED:20170211T164828Z
UID:28673-1486839600-1486839600@www.zubran.cz
SUMMARY:Školní ples 2017
DESCRIPTION:
URL:https://www.zubran.cz/akce/skolni-ples-2017/
LOCATION:Hamerská 10\, 756 54\, Zubří\, 756 54
ATTACH;FMTTYPE=image/png:https://www.zubran.cz/wp-content/uploads/2017/01/školní-ples-2017.png
END:VEVENT
END:VCALENDAR