BEGIN:VCALENDAR
VERSION:2.0
PRODID:-//Zubřan.cz - ECPv4.6.11.1//NONSGML v1.0//EN
CALSCALE:GREGORIAN
METHOD:PUBLISH
X-WR-CALNAME:Zubřan.cz
X-ORIGINAL-URL:https://www.zubran.cz
X-WR-CALDESC:Events for Zubřan.cz
BEGIN:VEVENT
DTSTART;TZID=UTC+0:20140426T193000
DTEND;TZID=UTC+0:20140426T212500
DTSTAMP:20260421T035305
CREATED:20140402T150505Z
LAST-MODIFIED:20140418T054933Z
UID:7014-1398540600-1398547500@www.zubran.cz
SUMMARY:Repríza Divadelní SPONY Lásky na horách 
DESCRIPTION:  \n  \n POZOR REPRÍZA ZAČÍNÁ v 19.30 \nVstupenky na tuto reprízu jsou k dostání v Klubu  Zubří od 1.4.2014 \n \n  \nPOZOR REPRÍZA ZAČÍNÁ v 19.30 \n\n\n
URL:https://www.zubran.cz/akce/repriza-divadelni-spony-lasky-na-horach/
LOCATION:Hamerská 10\, 756 54\, Zubří\, 756 54
ATTACH;FMTTYPE=image/jpeg:https://www.zubran.cz/wp-content/uploads/2014/04/Láska-nový.jpg
END:VEVENT
END:VCALENDAR