BEGIN:VCALENDAR
VERSION:2.0
PRODID:-//Zubřan.cz - ECPv4.6.11.1//NONSGML v1.0//EN
CALSCALE:GREGORIAN
METHOD:PUBLISH
X-WR-CALNAME:Zubřan.cz
X-ORIGINAL-URL:https://www.zubran.cz
X-WR-CALDESC:Events for Zubřan.cz
BEGIN:VEVENT
DTSTART;TZID=UTC+0:20170923T130000
DTEND;TZID=UTC+0:20170923T170000
DTSTAMP:20260419T144907
CREATED:20170914T132756Z
LAST-MODIFIED:20170914T141136Z
UID:30545-1506171600-1506186000@www.zubran.cz
SUMMARY:Radhošťská výzva 2017
DESCRIPTION:23. září. Charitativní závod RADHOŠŤSKÁ VÝZVA. Běžíme z Dolní Bečvy na Radhošť.\nwww.radhostskavyzva.cz poběžte s námi tentokrát pro nemocného Jiříka.\n\n\n
URL:https://www.zubran.cz/akce/radhostska-vyzva-2017/
LOCATION:Dolní Bečva\, Zlínský kraj\, Česká republika
ATTACH;FMTTYPE=image/jpeg:https://www.zubran.cz/wp-content/uploads/2017/09/PLAKAT-2017.jpg
END:VEVENT
END:VCALENDAR