BEGIN:VCALENDAR
VERSION:2.0
PRODID:-//Zubřan.cz - ECPv4.6.11.1//NONSGML v1.0//EN
CALSCALE:GREGORIAN
METHOD:PUBLISH
X-WR-CALNAME:Zubřan.cz
X-ORIGINAL-URL:https://www.zubran.cz
X-WR-CALDESC:Events for Zubřan.cz
BEGIN:VEVENT
DTSTART;TZID=UTC+0:20130921T130000
DTEND;TZID=UTC+0:20130921T130000
DTSTAMP:20260419T210246
CREATED:20130827T161802Z
LAST-MODIFIED:20130827T162224Z
UID:456-1379768400-1379768400@www.zubran.cz
SUMMARY:Radhošťská výzva 2013
DESCRIPTION:Charitativní akce – Závod\nRegistrace do 12:30\, startovné 100 Kč + dobrovolný příspěvek \nPřihlásit se na závod Radhošťská výzva můžete prostřednictvím rezervačního formuláře SNB školy\, který naleznete níže. \nZávod bude probíhat jako časovka jednotlivců. Interval rozestupu mezi jednotlivými závodníky bude 60 sekund. Trasa dlouhá 2\,7 km\, převýšení 600 m. \nOdkaz pro formulář: http://www.winterschool.cz/rezervace/2013/09/22/80/ \nOdkaz pro stránky na Facebooku: https://www.facebook.com/RadhostskaVyzva \n  \n \n\n\n\n
URL:https://www.zubran.cz/akce/radhostska-vyzva-2013/
LOCATION:Dolní Bečva\, Zlínský kraj\, Česká republika
CATEGORIES:Sport
ATTACH;FMTTYPE=image/jpeg:https://www.zubran.cz/wp-content/uploads/2013/08/Radhošťská-výzva.jpg
ORGANIZER;CN="Po%C5%99adatel":MAILTO:email@poradatel.cz
END:VEVENT
END:VCALENDAR