BEGIN:VCALENDAR
VERSION:2.0
PRODID:-//Zubřan.cz - ECPv4.6.11.1//NONSGML v1.0//EN
CALSCALE:GREGORIAN
METHOD:PUBLISH
X-WR-CALNAME:Zubřan.cz
X-ORIGINAL-URL:https://www.zubran.cz
X-WR-CALDESC:Events for Zubřan.cz
BEGIN:VEVENT
DTSTART;TZID=UTC+0:20160914T180000
DTEND;TZID=UTC+0:20160914T194500
DTSTAMP:20260422T001708
CREATED:20160914T092455Z
LAST-MODIFIED:20160914T092632Z
UID:27812-1473876000-1473882300@www.zubran.cz
SUMMARY:ŘACHANDA
DESCRIPTION:Pohádka o rozmazlené princezně a dvou kamarádech\, kteří se neživí vždycky úplně poctivě. Až když se trojice ocitne shodou okolností v kouzelném Černém lese\, kde žijí podivné lesní bytosti\, naučí se od nich to\, co je nedokázali do té doby naučit sami lidé – že tak\, jak se chováme k ostatním\, tak se pak oni chovají k nám.\nHrají: Denisa Pfauserová\, Bolek Polívka\, Josef Rarach\, Vilma Cibulková\, Oldřich Kaiser\, Míra Nosek\, Martin Dejdar\, Tomáš Havlínek\, Jan Hrušínský\, Martin Pechlát\, David Novotný\, Vladimír Polívka\, Petr Čtvrtníček a další\nRežie: Marta Ferencová\nScénář: Daniel Miňovský\nHudba: Daniel Miňovský\, Jan Kolář\nŽánr: pohádka\nVstupné: 70 Kč\nPřístupnost: mládeži přístupno\nDélka filmu: 104 minut \nZahájení: 14.09.2016 @ 18:00\nUkončení: 14.09.2016 @ 19:44\nVstupné na akci: 70 Kč \n \n  \nPořadatel:\nMěsto Zubří – OKaS\nTel.: 571 659 447\nE-mail: kultura@mesto-zubri.cz \n\n\n
URL:https://www.zubran.cz/akce/rachanda/
LOCATION:Hamerská 10\, 756 54\, Zubří\, 756 54
CATEGORIES:Kultura
ATTACH;FMTTYPE=image/jpeg:https://www.zubran.cz/wp-content/uploads/2016/09/3__mesto-zubri-1473692758538.jpg
ORGANIZER;CN="M%C4%9Bsto%20Zub%C5%99%C3%AD%20-%20Kultura":MAILTO:kultura@mesto-zubri.cz
END:VEVENT
END:VCALENDAR