BEGIN:VCALENDAR
VERSION:2.0
PRODID:-//Zubřan.cz - ECPv4.6.11.1//NONSGML v1.0//EN
CALSCALE:GREGORIAN
METHOD:PUBLISH
X-WR-CALNAME:Zubřan.cz
X-ORIGINAL-URL:https://www.zubran.cz
X-WR-CALDESC:Events for Zubřan.cz
BEGIN:VEVENT
DTSTART;TZID=UTC+0:20140420T140000
DTEND;TZID=UTC+0:20140420T180000
DTSTAMP:20260421T194914
CREATED:20140409T174736Z
LAST-MODIFIED:20140409T175117Z
UID:7114-1398002400-1398016800@www.zubran.cz
SUMMARY:První grilování v Tip Café s kapelou Navalentym
DESCRIPTION:
URL:https://www.zubran.cz/akce/prvni-grilovani-v-tip-cafe-s-kapelou-navalentym/
LOCATION:ThDr. Metoděje Mičoly 68\, Zubří\, 756 54
ATTACH;FMTTYPE=image/jpeg:https://www.zubran.cz/wp-content/uploads/2014/04/ip-café-plakatek.jpg
END:VEVENT
END:VCALENDAR