BEGIN:VCALENDAR
VERSION:2.0
PRODID:-//Zubřan.cz - ECPv4.6.11.1//NONSGML v1.0//EN
CALSCALE:GREGORIAN
METHOD:PUBLISH
X-WR-CALNAME:Zubřan.cz
X-ORIGINAL-URL:https://www.zubran.cz
X-WR-CALDESC:Events for Zubřan.cz
BEGIN:VEVENT
DTSTART;TZID=UTC+0:20150330T080000
DTEND;TZID=UTC+0:20150330T170000
DTSTAMP:20260421T235808
CREATED:20150330T171232Z
LAST-MODIFIED:20150330T171232Z
UID:19129-1427702400-1427734800@www.zubran.cz
SUMMARY:PŘEDNÁŠKA „NEŽIVÁ PŘÍRODA ZUBŘÍ“ V CYKLU Křeslo pro hosta
DESCRIPTION:Neživá příroda v Zubří – to je název hned pro dvě akce\, které jsou Odborem kultury a sportu Města Zubří připravovány na duben. Neživou přírodu našeho regionu představí Lukáš Maceček nejprve v rámci přednáškového cyklu Křeslo pro hosta (čtvrtek 2. 4. 2015 od 17.30 hod.)\, o týden později se pak otevřou dveře Muzea Zubří (Petrohradu) pro všechny návštěvníky stejnojmenné výstavy. \nExpozice Neživá příroda v Zubří a okolí seznamuje návštěvníky s geologickými poměry našeho regionu\, které jsou výsledkem procesů trvajících v řádu stovek miliónů let. Součástí výstavy jsou ukázky hornin\, minerálů a zkamenělin typických pro tuto oblast. Z vystavených paleontologických exponátů stojí za zmínku nálezy otisků ježovky Dactylodiscus beskidensis SLACZKA z lokality Randúsky v Zubří. K prohlédnutí budou i fotografie a kopie map souvisejících s geologickou tématikou. Výstava je doplněna o interaktivní prvky\, kde si návštěvníci mohou formou pokusů vyzkoušet a prohlédnout průběh některých geologických dějů. \nPřevážná většina exponátů vystavených na výstavě o neživé přírodě v Zubří a okolí pochází z mineralogické sbírky Muzea Zubří.  Tato sbírka byla pořízena v roce 2004 od amatérského sběratele pana Václava Němce\, který dlouhodobě prováděl povrchový sběr v zuberských lokalitách: Březovec\, Lipůvka\, Dropávka\, Porubky\, Ostrý\, Olšovec a Obecník. Přes 1000 nálezů pak nechal vybrousit a celé roky řádně uchovával a evidoval.  Vytvořil tak ucelený mineralogický soubor vypovídající o místních geologických poměrech. \nPŘEDNÁŠKA „NEŽIVÁ PŘÍRODA ZUBŘÍ“ V CYKLU Křeslo pro hosta\npřednáší Lukáš Maceček\nKlub Zubří\, čtvrtek 2. 4. 2015 od 17.30 hod.\nVstupné: 30 Kč \nVÝSTAVA „NEŽIVÁ PŘÍRODA ZUBŘÍ“\nMuzeum Zubří –“Na Petrohradě“ 9. 4. 2015 –   2015\nVstupné: dobrovolné \nVernisáž:\n9. 4. 2015 od 16.00 hodin \n\n\n
URL:https://www.zubran.cz/akce/prednaska-neziva-priroda-zubri-v-cyklu-kreslo-pro-hosta/
LOCATION:Hamerská 10\, 756 54\, Zubří\, 756 54
ATTACH;FMTTYPE=image/jpeg:https://www.zubran.cz/wp-content/uploads/2015/03/neziva-priroda-kreslo-pro-hosta.jpg
ORGANIZER;CN="M%C4%9Bsto%20Zub%C5%99%C3%AD%20-%20sport":MAILTO:josef.randus@mesto-zubri.cz
END:VEVENT
END:VCALENDAR