BEGIN:VCALENDAR
VERSION:2.0
PRODID:-//Zubřan.cz - ECPv4.6.11.1//NONSGML v1.0//EN
CALSCALE:GREGORIAN
METHOD:PUBLISH
X-WR-CALNAME:Zubřan.cz
X-ORIGINAL-URL:https://www.zubran.cz
X-WR-CALDESC:Events for Zubřan.cz
BEGIN:VEVENT
DTSTART;TZID=UTC+0:20171004T150000
DTEND;TZID=UTC+0:20171004T170000
DTSTAMP:20260419T180917
CREATED:20170929T060321Z
LAST-MODIFIED:20170929T060321Z
UID:30651-1507129200-1507136400@www.zubran.cz
SUMMARY:Pozvánka pro mladé zájemce o modelářský kroužek v Zubří
DESCRIPTION:\n		\n			#gallery-1 {\n				margin: auto;\n			}\n			#gallery-1 .gallery-item {\n				float: left;\n				margin-top: 10px;\n				text-align: center;\n				width: 33%;\n			}\n			#gallery-1 img {\n				border: 2px solid #cfcfcf;\n			}\n			#gallery-1 .gallery-caption {\n				margin-left: 0;\n			}\n			/* see gallery_shortcode() in wp-includes/media.php */\n		\n		\n			\n				\n			\n			\n		\n\n\n
URL:https://www.zubran.cz/akce/pozvanka-pro-mlade-zajemce-o-modelarsky-krouzek-v-zubri/
LOCATION:Hamerská 10\, 756 54\, Zubří\, 756 54
ATTACH;FMTTYPE=image/png:https://www.zubran.cz/wp-content/uploads/2017/09/Modelari-deti.png
ORGANIZER;CN="Model%C3%A1%C5%99sk%C3%BD%20klub%20Zub%C5%99%C3%AD":MAILTO:Jarda.Janosek@seznam.cz
END:VEVENT
END:VCALENDAR