BEGIN:VCALENDAR
VERSION:2.0
PRODID:-//Zubřan.cz - ECPv4.6.11.1//NONSGML v1.0//EN
CALSCALE:GREGORIAN
METHOD:PUBLISH
X-WR-CALNAME:Zubřan.cz
X-ORIGINAL-URL:https://www.zubran.cz
X-WR-CALDESC:Events for Zubřan.cz
BEGIN:VEVENT
DTSTART;TZID=UTC+0:20151005T160000
DTEND;TZID=UTC+0:20151005T180000
DTSTAMP:20260422T070958
CREATED:20150930T052416Z
LAST-MODIFIED:20150930T052429Z
UID:22899-1444060800-1444068000@www.zubran.cz
SUMMARY:Pozvánka na veřejné projednávání dokumentu k Programu rozvoje města
DESCRIPTION:Informace pro občany\nV pondělí 5. 10. 2015 od 16.00 hodin se ve Velkém sále Klubu Zubří bude konat veřejné projednávání dokumentu k Programu rozvoje města Zubří na období 2016-2020 (PRO). V souvislosti s tím bude také současně předložen návrh Grantového programu města Zubří pro rok 2016 (GP).\nProgram jednání: \nSeznámení s dosavadním průběhem projektu PRO\, představení dokumentu PRO\, seznámení se s návrhem GP\, diskuzeRealizační tým\n Program rozvoje města Zubří na období 2016-2020 \n\n\n\n
URL:https://www.zubran.cz/akce/pozvanka-na-verejne-projednavani-dokumentu-k-programu-rozvoje-mesta/
LOCATION:Hamerská 10\, 756 54\, Zubří\, 756 54
ATTACH;FMTTYPE=image/jpeg:https://www.zubran.cz/wp-content/uploads/2013/11/Zubří-a-podzim-Jiří-Koleček.jpg
END:VEVENT
END:VCALENDAR