BEGIN:VCALENDAR
VERSION:2.0
PRODID:-//Zubřan.cz - ECPv4.6.11.1//NONSGML v1.0//EN
CALSCALE:GREGORIAN
METHOD:PUBLISH
X-WR-CALNAME:Zubřan.cz
X-ORIGINAL-URL:https://www.zubran.cz
X-WR-CALDESC:Events for Zubřan.cz
BEGIN:VEVENT
DTSTART;TZID=UTC+0:20170506T090000
DTEND;TZID=UTC+0:20170506T170000
DTSTAMP:20260422T131120
CREATED:20170423T122203Z
LAST-MODIFIED:20170423T122203Z
UID:29296-1494061200-1494090000@www.zubran.cz
SUMMARY:Májový sportovní den
DESCRIPTION:
URL:https://www.zubran.cz/akce/majovy-sportovni-den/
LOCATION:Hlavní\, Zubří\, 756 54\, Česká republika
ATTACH;FMTTYPE=image/jpeg:https://www.zubran.cz/wp-content/uploads/2017/04/MD_06-01.jpg
END:VEVENT
END:VCALENDAR