BEGIN:VCALENDAR
VERSION:2.0
PRODID:-//Zubřan.cz - ECPv4.6.11.1//NONSGML v1.0//EN
CALSCALE:GREGORIAN
METHOD:PUBLISH
X-WR-CALNAME:Zubřan.cz
X-ORIGINAL-URL:https://www.zubran.cz
X-WR-CALDESC:Events for Zubřan.cz
BEGIN:VEVENT
DTSTART;TZID=UTC+0:20170819T210000
DTEND;TZID=UTC+0:20170819T220000
DTSTAMP:20260419T144430
CREATED:20170813T115218Z
LAST-MODIFIED:20170819T163726Z
UID:29407-1503176400-1503180000@www.zubran.cz
SUMMARY:Letní kino v Tip cafe: Nedotknutelní - PROOMÍTÁNÍ SE NEKONÁ Z DŮVODU NEPŘÍZNIVÉHO POČASÍ
DESCRIPTION:Nedotknutelní\n  \nOchrnutý a bohatý aristokrat Philippe si za svého nového opatrovníka vybere Drisse\, živelného mladíka z předměstí\, kterého právě propustili z vězení. Jinými slovy – najde si na tuto práci tu nejméně vhodnou osobu. Podaří se jim však propojit nemožné: Vivaldiho a populární hudbu\, serióznost a žoviální vtípky\, luxusní obleky a tepláky. Bláznivým\, zábavným\, silným\, neočekávaným a hlavně „nedotknutelným“\, přesně takovým se stane jejich přátelství… Komedie s dramatickou zápletkou o tom\, že ani od krku po prsty u nohou nepohyblivý člověk odkázaný na pomoc druhých\, nemusí ztratit smysl života. A o tom\, že i nejméně pravděpodobné spojení melancholického multimilionáře a extrovertního recidivisty může humorně zapůsobit na diváka a může se z něj stát kasovní trhák.(oficiální text distributora) \nFilmová projekce jen za příznivého počasí. \nZměna programu vyhrazena. \nNa Vaší návštěvu se se těší zaměstnanci kavárny Tip cafe \n\n\n
URL:https://www.zubran.cz/akce/letni-kino-v-tip-cafe-nedotknutelni-proomitani-se-nekona-z-duvodu-neprizniveho-pocasi/
LOCATION:ThDr. Metoděje Mičoly 68\, Zubří\, 756 54
ATTACH;FMTTYPE=image/jpeg:https://www.zubran.cz/wp-content/uploads/2016/08/Letní-kino-tip-cafe.jpg
END:VEVENT
END:VCALENDAR