BEGIN:VCALENDAR
VERSION:2.0
PRODID:-//Zubřan.cz - ECPv4.6.11.1//NONSGML v1.0//EN
CALSCALE:GREGORIAN
METHOD:PUBLISH
X-WR-CALNAME:Zubřan.cz
X-ORIGINAL-URL:https://www.zubran.cz
X-WR-CALDESC:Events for Zubřan.cz
BEGIN:VEVENT
DTSTART;TZID=UTC+0:20170318T180000
DTEND;TZID=UTC+0:20170318T220000
DTSTAMP:20260421T034733
CREATED:20170314T144143Z
LAST-MODIFIED:20170314T144143Z
UID:29105-1489860000-1489874400@www.zubran.cz
SUMMARY:LENKA DUSILOVÁ\, LASSE MATTHIESSEN & BAND (Dánsko)
DESCRIPTION:Hudební událost jara\nDvojkoncert hudebních osobností\, který jinde neuvidíte!\nLenka Dusilová – sólo\nLasse Matthiessen & band (Dánsko)\nVstupné: 190 Kč\nRezervace: kancelář Klubu Zubří\, Tel: 571 659 447\, 602 483 785\nkultura@mesto-zubri.cz \nLenka Dusilová – Sólo\nLenka se stala ikonou odvážného\, novátorského popu\, avšak neztrácí většinové publikum\, jež si za léta svého působení vybudovala. V samostatných sólových vystoupeních experimentuje s loop machine\, stylovou otevřeností\, hráčskou erudicí a rozšířenými nezaměnitelnými vokálními technikami. \n \n\nDánský Bob Dylan na cestě Evropou zavítá i do Zubří\nPochvalné recenze hudebních kritiků i předskakování hvězdám jako Anna Calvi nebo Suzanne Vega. Dánský písničkář Lasse Matthiessen se vrací do České republiky i se svou čtyřčlennou kapelou. V Zubří vystoupí v rámci dvojkoncertu s Lenkou Dusilovou.  \n \nSyn významného jazzového pianisty\, producenta a spisovatele Ole Matthiessena\, se v hudebním žánru nepotatil. Ačkoliv uvažoval o dráze jazz kytaristy\, brzy pochopil\, že je mu milejší přímější písničkářství. Zvolil dobře\, vždyť bývá označován za dánského Boba Dylana i Drakea. Jeho niterně naléhavé texty doprovázené jednoduchými\, avšak dynamicky vystavěnými melodiemi\, oceňují fanoušci i kritici – nadšené recenze vyšly v prestižních periodikách jako Rolling Stone Magazine\, Frankfurter Allgemeine Zeitung\, Die Zeit a Süddeutsche Zeitung. Jeho aktuální album „Wildfires“ bylo prezentováno na Stern.de či televizi VIVA i MTV. Není náhoda\, že je Matthiessen oblíben především v sousedním Německu. Právě během studií v Berlíně nastartoval svou hudební dráhu a velkoměsto stále považuje za svůj druhý domov. Později vystupoval také v Rakousku\, Polsku\, Švýcarsku\, Francii\, Španělsku\, Norsku i v USA.\nTěšte se i na ukázky z připravované desky\, na které se talentovaný Dán hodlá odvážit do vod inteligentního popu extrovertního vyznění.\nTurné se koná s podporou Velvyslanectví Dánského království. \nREZERVACE VSTUPENEK:\nOd 27.2. 2017 bude možnost rezervace přes web:\nhttp://rezervace.mesto-zubri.cz\nnebo telefonicky na tel: 571 659 447\, 602 483 785\,\npřípadně prostřednictvím e-mailu: kultura@mesto-zubri.cz. \nRezervované vstupenky je nutné vyzvednout a zaplatit v kanceláři Klubu Zubří (Hamerská 10) v úředních hodinách (níže) nebo uhradit bezhotovostně na účet města (údaje k platbě generuje rezervační systém). \nÚřední hodiny:\nPondělí    8:00-11:30 h\, 12:30-17:00 h\nStředa      8:00-11:30 h\, 12:30-17:00 h\nČtvrtek     8:00-11:30 h\, 12:30-14:00 h\nPátek       8:00-11:30 h \n\n\n
URL:https://www.zubran.cz/akce/lenka-dusilova-lasse-matthiessen-band-dansko-2/
LOCATION:Hamerská 10\, 756 54\, Zubří\, 756 54
CATEGORIES:Kultura
ATTACH;FMTTYPE=image/jpeg:https://www.zubran.cz/wp-content/uploads/2017/03/lasse-dusilenka-plakát-na-web.jpg
ORGANIZER;CN="M%C4%9Bsto%20Zub%C5%99%C3%AD%20-%20Kultura":MAILTO:kultura@mesto-zubri.cz
END:VEVENT
END:VCALENDAR