BEGIN:VCALENDAR
VERSION:2.0
PRODID:-//Zubřan.cz - ECPv4.6.11.1//NONSGML v1.0//EN
CALSCALE:GREGORIAN
METHOD:PUBLISH
X-WR-CALNAME:Zubřan.cz
X-ORIGINAL-URL:https://www.zubran.cz
X-WR-CALDESC:Events for Zubřan.cz
BEGIN:VEVENT
DTSTART;TZID=UTC+0:20170915T090000
DTEND;TZID=UTC+0:20170916T140000
DTSTAMP:20260419T132014
CREATED:20170817T083911Z
LAST-MODIFIED:20170817T083911Z
UID:30363-1505466000-1505570400@www.zubran.cz
SUMMARY:Kouzelný svět trav
DESCRIPTION:OSEVA PRO s.r.o.\, Výzkumná stanice travinářská Rožnov – Zubří a OSEVA vývoj a výzkum s.r.o. si Vás tímto srdečně dovolují pozvat na šestý ročník dne otevřených dveří \n„Kouzelný svět trav“ \nkterý se koná v pátek 15. 9. 2017 od 9:00 do 17:00 hod. a v sobotu 16. 9. 2017 od 8:00 do 14:00 hod. v areálu genofondové zahrady a prostorách Výzkumné stanice travinářské v Zubří\, Hamerská 698\, 756 54 Zubří (u Hamerských rybníků). \nPro návštěvníky budou připraveny expozice: \n– představení trav z našich zahrad\, luk a polí\n– možnosti energetického využití trav\n– expozice chorob trav a ochrany trávníků\n– ukázka zahradní a maloparcelní techniky\n– ochutnávka a prodej pohanky\n– prodej bylinek\, květin a okrasných trav \n\n\n
URL:https://www.zubran.cz/akce/kouzelny-svet-trav/
LOCATION:Hamerská 698\, \, Zubří\, Zlínský kraj\, 75654\, Česká republika
ATTACH;FMTTYPE=image/jpeg:https://www.zubran.cz/wp-content/uploads/2017/08/Oseva-2017.jpg
ORGANIZER;CN="Oseva%20pro%20s.r.o.":MAILTO:zubri@oseva.cz
END:VEVENT
END:VCALENDAR