BEGIN:VCALENDAR
VERSION:2.0
PRODID:-//Zubřan.cz - ECPv4.6.11.1//NONSGML v1.0//EN
CALSCALE:GREGORIAN
METHOD:PUBLISH
X-WR-CALNAME:Zubřan.cz
X-ORIGINAL-URL:https://www.zubran.cz
X-WR-CALDESC:Events for Zubřan.cz
BEGIN:VEVENT
DTSTART;TZID=UTC+0:20150918T080000
DTEND;TZID=UTC+0:20150919T140000
DTSTAMP:20260422T110055
CREATED:20150908T050821Z
LAST-MODIFIED:20150909T123452Z
UID:22335-1442563200-1442671200@www.zubran.cz
SUMMARY:Kouzelný svět trav 2015
DESCRIPTION:\n \nKouzelný svět trav 2015´´\, \nkterý se koná v botanické zahradě \nVýzkumné stanice travinářské v Zubří (u rybníků). \nAkce pro školy i veřejnost  se uskuteční \nv pátek 18.9.2015 od 800 do 1700 hod (komentované prohlídky pro školy a spolky) \na v sobotu 20.9.2015 od 800 do 1400 hod. \nNávštěvníci akce budou seznámeni s expozicí okrasných\, trávníkových\, pícních i planých druhů trav. \n Představeny budou i další plodiny šlechtěné ve VST Zubří (pohanka\, lupina). \nZájemci si mohou prohlédnout i pokusnickou a trávníkářskou techniku \n dozvědět se něco o výzkumu v oblasti trav a trávníků – prohlídka laboratoří \n  o možnostech energetického využití trav – výroba peletek z trav \nNa akci bude možnost nákupu některých okrasných trav a bylinek a k ochutnání budou připraveny pokrmy z pohanky. \nVíce informací najdete na http://www.oseva-vav.cz/index_soubory/denod.htm \n\n\n\n
URL:https://www.zubran.cz/akce/kouzelny-svet-trav-iii/
LOCATION:Hamerská 698\, \, Zubří\, Zlínský kraj\, 75654\, Česká republika
ATTACH;FMTTYPE=image/jpeg:https://www.zubran.cz/wp-content/uploads/2015/09/16-Oseva-Zubri.jpg
ORGANIZER;CN="Oseva%20pro%20s.r.o.":MAILTO:zubri@oseva.cz
END:VEVENT
END:VCALENDAR