BEGIN:VCALENDAR
VERSION:2.0
PRODID:-//Zubřan.cz - ECPv4.6.11.1//NONSGML v1.0//EN
CALSCALE:GREGORIAN
METHOD:PUBLISH
X-WR-CALNAME:Zubřan.cz
X-ORIGINAL-URL:https://www.zubran.cz
X-WR-CALDESC:Events for Zubřan.cz
BEGIN:VEVENT
DTSTART;TZID=UTC+0:20150614T040000
DTEND;TZID=UTC+0:20150614T173500
DTSTAMP:20260419T133124
CREATED:20150507T092915Z
LAST-MODIFIED:20150507T092915Z
UID:19935-1434254400-1434303300@www.zubran.cz
SUMMARY:Koncert \,\,Jedna nota za druhou"
DESCRIPTION: \n\n\n
URL:https://www.zubran.cz/akce/koncert-jedna-nota-za-druhou/
LOCATION:ThDr. Metoděje Mičoly 59\, Zubří\, 75654
ATTACH;FMTTYPE=image/png:https://www.zubran.cz/wp-content/uploads/2015/05/koncert-2015-jedna-nota-za-druhou.png
ORGANIZER;CN="Farnost%20Zub%C5%99%C3%AD":MAILTO:fazubri@ado.cz
END:VEVENT
END:VCALENDAR