BEGIN:VCALENDAR
VERSION:2.0
PRODID:-//Zubřan.cz - ECPv4.6.11.1//NONSGML v1.0//EN
CALSCALE:GREGORIAN
METHOD:PUBLISH
X-WR-CALNAME:Zubřan.cz
X-ORIGINAL-URL:https://www.zubran.cz
X-WR-CALDESC:Events for Zubřan.cz
BEGIN:VEVENT
DTSTART;TZID=UTC+0:20140416T180000
DTEND;TZID=UTC+0:20140416T200000
DTSTAMP:20260425T235103
CREATED:20140413T162818Z
LAST-MODIFIED:20140413T163850Z
UID:7207-1397671200-1397678400@www.zubran.cz
SUMMARY:HC Zubří - KP Brno 
DESCRIPTION:
URL:https://www.zubran.cz/akce/hc-zubri-kp-brno/
LOCATION:Hlavni 492\, 75654 Zubří\, Zubří\, 756 54\, Česká republika
ATTACH;FMTTYPE=image/jpeg:https://www.zubran.cz/wp-content/uploads/2014/02/HC-Zubří-Kopřivnice-házená-unor-2014-00049.jpg
END:VEVENT
END:VCALENDAR