BEGIN:VCALENDAR
VERSION:2.0
PRODID:-//Zubřan.cz - ECPv4.6.11.1//NONSGML v1.0//EN
CALSCALE:GREGORIAN
METHOD:PUBLISH
X-WR-CALNAME:Zubřan.cz
X-ORIGINAL-URL:https://www.zubran.cz
X-WR-CALDESC:Events for Zubřan.cz
BEGIN:VEVENT
DTSTART;TZID=UTC+0:20170923T180000
DTEND;TZID=UTC+0:20170923T200000
DTSTAMP:20260419T162353
CREATED:20170921T074014Z
LAST-MODIFIED:20170921T074014Z
UID:30563-1506189600-1506196800@www.zubran.cz
SUMMARY:HC ROBE Zubří - HBC Strakonice 1921
DESCRIPTION:
URL:https://www.zubran.cz/akce/hc-robe-zubri-hbc-strakonice-1921/
LOCATION:Moravská\, Rožnov pod Radhoštěm\, 75661
ATTACH;FMTTYPE=image/jpeg:https://www.zubran.cz/wp-content/uploads/2016/10/HC-ROBE-Zubří-–-HCB-Karviná-2016-0056.jpg
END:VEVENT
END:VCALENDAR