BEGIN:VCALENDAR
VERSION:2.0
PRODID:-//Zubřan.cz - ECPv4.6.11.1//NONSGML v1.0//EN
CALSCALE:GREGORIAN
METHOD:PUBLISH
X-WR-CALNAME:Zubřan.cz
X-ORIGINAL-URL:https://www.zubran.cz
X-WR-CALDESC:Events for Zubřan.cz
BEGIN:VEVENT
DTSTART;TZID=UTC+0:20150802T173000
DTEND;TZID=UTC+0:20150802T192500
DTSTAMP:20260425T130508
CREATED:20150727T105642Z
LAST-MODIFIED:20150727T105642Z
UID:21572-1438536600-1438543500@www.zubran.cz
SUMMARY:FOTBAL MUŽI “A”: FC ZUBŘÍ – SLUŠOVICE (POHÁR 1.KOLO)
DESCRIPTION:Fotbalisté Zubří byli nalosováni do prvního kola poháru hejtmana zlínského kraje. Dostali však velice těžkého soupeře v podobě týmu Slušovic. První zápas sezóny tak nabídne určitě pěkný zápas.\nPřijďte zuberské fotbalisty podpořit\, těší se na Vaší návštěvu.\nUtkání se odehraje 2.srpna na hřišti v Zubří\, začíná se v 17:30. \n\n\n
URL:https://www.zubran.cz/akce/fotbal-muzi-a-fc-zubri-slusovice-pohar-1-kolo/
LOCATION:Sídlištní 491\, Zubří\, 75654
CATEGORIES:Sport,Vše
ATTACH;FMTTYPE=image/jpeg:https://www.zubran.cz/wp-content/uploads/2014/05/FC-Zubří-TJ-Kelč-0014-26-05-2014.jpg
ORGANIZER;CN="FC%20Zub%C5%99%C3%AD":MAILTO:fczubri@gmail.com
END:VEVENT
END:VCALENDAR