BEGIN:VCALENDAR
VERSION:2.0
PRODID:-//Zubřan.cz - ECPv4.6.11.1//NONSGML v1.0//EN
CALSCALE:GREGORIAN
METHOD:PUBLISH
X-WR-CALNAME:Zubřan.cz
X-ORIGINAL-URL:https://www.zubran.cz
X-WR-CALDESC:Events for Zubřan.cz
BEGIN:VEVENT
DTSTART;TZID=UTC+0:20151122T160000
DTEND;TZID=UTC+0:20151122T180000
DTSTAMP:20260420T015254
CREATED:20151117T165404Z
LAST-MODIFIED:20151117T165404Z
UID:23792-1448208000-1448215200@www.zubran.cz
SUMMARY:Divadelní představení: \,\,Popelka Nazaretská" v kostele SV Kateřiny v Zubří
DESCRIPTION: \n\n\n
URL:https://www.zubran.cz/akce/divadelni-predstaveni-popelka-nazaretska-v-kostele-sv-kateriny-v-zubri/
LOCATION:ThDr. Metoděje Mičoly 59\, Zubří\, 75654
ATTACH;FMTTYPE=image/png:https://www.zubran.cz/wp-content/uploads/2015/11/Popelka-Nazaretská.png
ORGANIZER;CN="Farnost%20Zub%C5%99%C3%AD":MAILTO:fazubri@ado.cz
END:VEVENT
END:VCALENDAR