BEGIN:VCALENDAR
VERSION:2.0
PRODID:-//Zubřan.cz - ECPv4.6.11.1//NONSGML v1.0//EN
CALSCALE:GREGORIAN
METHOD:PUBLISH
X-WR-CALNAME:Zubřan.cz
X-ORIGINAL-URL:https://www.zubran.cz
X-WR-CALDESC:Events for Zubřan.cz
BEGIN:VEVENT
DTSTART;TZID=UTC+0:20260207T150000
DTEND;TZID=UTC+0:20260207T180000
DTSTAMP:20260424T071847
CREATED:20260114T131531Z
LAST-MODIFIED:20260114T131531Z
UID:40270-1770476400-1770487200@www.zubran.cz
SUMMARY:Degustace pálenek v Zubří
DESCRIPTION:Výbor ZO ČZS Zubří zve své členy i širokou veřejnost na degustaci pálenek a domácích likérů. \nKdy: v sobotu 7. února 2026 od 15:00 hodin\nKde: Sokolovna Zubří – místnost Klubovna\nSoutěžní kategorie:\n\n\nslivovice \n\n\njablkovice \n\n\nostatní bílé pálenky \n\n\ndomácí likéry \n\n\nPříjem vzorků:\nVzorky pálenek (0\,3 l) je možné odevzdat od 15:00 hodin. \nVstupné:\n\n\núčastníci bez vlastního vzorku pálenky: 100 Kč \n\n\nPřijďte ochutnat\, porovnat a strávit příjemné odpoledne ve společnosti dobrých lidí a kvalitních domácích destilátů. \nSrdečně zvou zuberští zahrádkáři  \n\n\n
URL:https://www.zubran.cz/akce/degustace-palenek-v-zubri/
LOCATION:Hlavní 459\, Zubří\, 756 54
ATTACH;FMTTYPE=image/png:https://www.zubran.cz/wp-content/uploads/2026/01/final-degustace-e1768396522336.png
END:VEVENT
END:VCALENDAR