BEGIN:VCALENDAR
VERSION:2.0
PRODID:-//Zubřan.cz - ECPv4.6.11.1//NONSGML v1.0//EN
CALSCALE:GREGORIAN
METHOD:PUBLISH
X-WR-CALNAME:Zubřan.cz
X-ORIGINAL-URL:https://www.zubran.cz
X-WR-CALDESC:Events for Zubřan.cz
BEGIN:VEVENT
DTSTART;TZID=UTC+0:20141114T060000
DTEND;TZID=UTC+0:20141114T200000
DTSTAMP:20260420T014842
CREATED:20141029T171513Z
LAST-MODIFIED:20141029T171513Z
UID:14039-1415944800-1415995200@www.zubran.cz
SUMMARY:Cyklotoulky Kubou - Křeslo pro hosta speciál 
DESCRIPTION:  Někdo je může znát z vyprávění v Českém rozhlase\, někdo možná z přednášek a besed\, jiný se s nimi mohl potkat jako s pořadateli Festivalu Cyklocestování nebo na společném výšlapu s kočárky na vrchol nějaké hory … Řeč je o rodině Stillerových. Nejprve Martin\, pak i jeho partnerka Renata a od roku 2012 i malá Stelinka – všichni propadli vášni cyklocestování. U nás v Klubu se představí poprvé\, a sice s přednáškou o cykloputování na Kubě. Trochu té exotiky před opravdovým nástupem zimy neuškodí. Určitě přijďte. Bude to stát za to. \nCyklocestovatelé Renča a Martin Stillerovi vyrazili na půlroční a přesně 7000 km dlouhé cykloputování po americkém kontinentě\, jehož hlavním cílem bylo proniknout mezi lidi\, poznat kulturu\, přírodu a krásy v daných krajinách. Na svém cykloputování Renča s Martinem nikam nespěchali\, kilometry nehltali a dostatečně si tak vše vychutnávali. Jaká byla Kuba ještě za Fidela a vlastně už skoro bez Fidela\, to se dozvíte prostřednictvím jejich poutavého vyprávění plného dobrodružných zážitků. Na závěr krátce nakouknete pod pokličku\, jak jejich cesta dále pokračovala do Mexika a na úžasný scénický jihozápad USA. \n \n Ing. Martin Stiller\n Ročník 1980\, vystudoval obor Geovědní a montánní turismus na VŠB-TU Ostrava a poté Management a marketing na UTB ve Zlíně. \nNarodil se a dětství prožil v Broumově\, v oblasti pískovcových skal. V současné době žije střídavě v Beskydech ve Frýdku-Místku a v rakouské Vídni. \nVlastní  akreditaci průvodce pro činnost horskou a je také kvalifikovaným průvodcem cestovního ruchu. Aktivně se zabývá turistikou\, VHT a především cykloturistikou. Je členem českého klubu cestovatelů. \nNa kole projel velkou část Evropy. V létě 2001 podnikl náročnou cykloexpedici „Na kole napříč Evropou z Čech až do Afriky“ – 5750 km v 10 státech a na 2 kontinentech. V sedle svého kola zdolal také cca 120 horských průsmyků a sedel\, jako např. Passo dello Stelvio 2758 m\, Timmelsjoch 2509 m\, Edelweisspitze 2571 m a mnohé další.  Na plně naloženém kole se také podařilo vyšlapat až na alpskou horskou chatu Pirovano nacházející se v nadmořské výšce 3050 m. Na přelomu roku 2007-2008 uskutečnil  9320 km dlouhou cykloexpedici napříč celým australským kontinentem ze západu na východ. V roce 2010 následovala půlroční cyklocesta Amerikou\, při níž Martin se ženou Renčou našlapali na svých kolech 7000 km po Kubě\, Mexiku a USA. \nCyklocestování se stalo jeho vášní a vedlo ho k založení prvního ryze cyklocestovatelského festivalu „Cyklocestování“\, který se koná tradičně ve Frýdku-Místku\, Hradci Králové a Brně. Více na www.cyklocestovani.cz \nDo dnešních dnů procestoval více než 35 zemí a tím rozhodně jeho cestovatelské plány nekončí. Cestování se stalo jeho životem\, drogou i radostí\, které se hodlá věnovat i v budoucnu. \nJako horský průvodce působil např. ve Walliských či Julských Alpách\, v pohoří Dachstein\, na Ukrajině\, v Norsku\, na Islandu\, v Keni a také Pákistánu. \nJeho koníčkem je poznávání nových krajů\, sport a rád také fotografuje. Ze svých cest a expedic vytváří cestopisné besedy – DIASHOW\, které prezentuje s velkým ohlasem již několik let po celé České republice i v zahraničí. Nabídku cestopisných besed pro školy\, knihovny\, muzea či jiné kulturní organizace prezentuje na svých webových stránkách: www.cyklocestovani.cz . Zde jsou také uvedeny termíny\, kde se je možno s tímto cestovatelem osobně setkat a tak tyto velmi zajímavé pořady zhlédnout. \nCestopisné projekce prezentuje pravidelně na mnohých cestovatelských festivalech a sportovních veletrzích\, např. Sportlife – Brno\, Setkání cestovatelů – Praha\, Horobál – Frenštát pod Radhoštěm\, Cyklocestování – Frýdek-Místek\, Cesty – Prosiměřice u Znojma\, Scuk u Štatlu – Brno\, veletrh Sport – Jablonec nad Nisou\, Horování – Šumperk a další. \nObčas publikuje své články v časopisech se sportovní\, cestovatelskou a outdoorovou tématikou\, jako např. Treking\, Cykloturistika\, Malý průvodce světem outdooru\, Lidé a Hory a další. Mimo jiné se jeho články objevují v denním tisku\, regionálních magazínech apod. Zajímavého vyprávění se spoustou zážitků také rádi využívají redaktoři Českého rozhlasu a České televize. \nPři testování výrobků spolupracuje s předními českými výrobci sportovního vybavení\, jako např. TILAK\, JUREK S+R\, RUBENA\, YATE a dalšími zahraničními firmami jako jsou: MEINDL\, ORTLIEB\, ISOSTAR\, VERTEC\, TRANGIA\, LIMAR\, TERMOVEL atd. \n  \n  \n  \n\n\n
URL:https://www.zubran.cz/akce/cyklotoulky-kubou-kreslo-pro-hosta-special/
LOCATION:Hamerská 10\, 756 54\, Zubří\, 756 54
CATEGORIES:Kultura,Vše
ATTACH;FMTTYPE=image/jpeg:https://www.zubran.cz/wp-content/uploads/2014/10/Kuba1.jpg
END:VEVENT
END:VCALENDAR