BEGIN:VCALENDAR
VERSION:2.0
PRODID:-//Zubřan.cz - ECPv4.6.11.1//NONSGML v1.0//EN
CALSCALE:GREGORIAN
METHOD:PUBLISH
X-WR-CALNAME:Zubřan.cz
X-ORIGINAL-URL:https://www.zubran.cz
X-WR-CALDESC:Events for Zubřan.cz
BEGIN:VEVENT
DTSTART;TZID=UTC+0:20141214T160000
DTEND;TZID=UTC+0:20141214T180000
DTSTAMP:20260422T020759
CREATED:20141127T183458Z
LAST-MODIFIED:20141202T122009Z
UID:15311-1418572800-1418580000@www.zubran.cz
SUMMARY:Adventní koncert v kostele sv. kateřiny
DESCRIPTION: \n\n\n
URL:https://www.zubran.cz/akce/adventni-koncert-v-kostele-sv-kateriny/
LOCATION:ThDr. Metoděje Mičoly 59\, Zubří\, 75654
ATTACH;FMTTYPE=image/jpeg:https://www.zubran.cz/wp-content/uploads/2014/01/14-Vánoce-2013-v-zuberském-kostele.jpg
ORGANIZER;CN="Farnost%20Zub%C5%99%C3%AD":MAILTO:fazubri@ado.cz
END:VEVENT
END:VCALENDAR