BEGIN:VCALENDAR
VERSION:2.0
PRODID:-//Zubřan.cz - ECPv4.6.11.1//NONSGML v1.0//EN
CALSCALE:GREGORIAN
METHOD:PUBLISH
X-WR-CALNAME:Zubřan.cz
X-ORIGINAL-URL:https://www.zubran.cz
X-WR-CALDESC:Events for Zubřan.cz
BEGIN:VEVENT
DTSTART;TZID=UTC+0:20140216T180000
DTEND;TZID=UTC+0:20140216T193000
DTSTAMP:20260423T090414
CREATED:20140124T125955Z
LAST-MODIFIED:20140124T125955Z
UID:5159-1392573600-1392579000@www.zubran.cz
SUMMARY:GABRIELA DEMETEROVÁ\, L.V.BEETHOVEN - HUDBA A DUŠE GÉNIA
DESCRIPTION:Každému\, kdo má rád klasickou hudbu\, ale také všem těm\, kteří neopovrhnou krásným uměním obecně\, musí srdce zaplesat radostí nad zprávou\, že do našeho malého Zubří zavítá celosvětově uznávaná houslistka\, paní Gabriela Demeterová. Představí se Vám v úchvatném projektu\, který představuje celovečerní propojení hudby a mluveného slova. \nV netradičním pojetí Vám bude představen jeden z největších gigantů světové klasické hudby\, Ludwig van Beethoven\, jeho slavné sonáty pro housle a klavír\, ale také jeho duše a lidský rozměr\, a to prostřednictvím dochované soukromé korespondence v neopakovatelné herecké interpretaci Otakara Brouska ml. \nGabriela Demeterová – housle \nLuděk Šabaka – klavír \nOtakar Brousek ml. – mluvené slovo \nGabriela Demeterová \n„Hvězda 3. Tisíciletí“ – Houslistka\, violistka\, sólistka světových orchestrů\, první česká finalistka a absolutní vítězka Mezinárodní houslové soutěže Yehudi Menuhina v Anglii\, členka umělecké rady Akademie múzických umění v Praze\, držitelka ocenění „Žena roku 2005“ v soutěži prestižního časopisu Prague Leaders Magazine… \n    \n\n\n
URL:https://www.zubran.cz/akce/gabriela-demeterova-l-v-beethoven-hudba-a-duse-genia/
CATEGORIES:Kultura,Vše
ATTACH;FMTTYPE=image/jpeg:https://www.zubran.cz/wp-content/uploads/2014/01/demeterová.jpg
END:VEVENT
END:VCALENDAR