BEGIN:VCALENDAR
VERSION:2.0
PRODID:-//Zubřan.cz - ECPv4.6.11.1//NONSGML v1.0//EN
CALSCALE:GREGORIAN
METHOD:PUBLISH
X-WR-CALNAME:Zubřan.cz
X-ORIGINAL-URL:https://www.zubran.cz
X-WR-CALDESC:Events for Zubřan.cz
BEGIN:VEVENT
DTSTART;TZID=UTC+0:20140131T180000
DTEND;TZID=UTC+0:20140131T200000
DTSTAMP:20260422T075732
CREATED:20140107T081541Z
LAST-MODIFIED:20140106T082643Z
UID:4822-1391191200-1391198400@www.zubran.cz
SUMMARY:Divadelní soubor Chaos z Valašské Bystřice\, Pod praporem něžných dam - pro předplatitele!
DESCRIPTION:Pouze pro předplatitele! \nKomedie i u nás velice známého amerického autora v podání ochotníků z Val. Bystřice i ze Zubří. Hrají: Honza Závorka\, Pepa Šturma\, Ing. Jana Majerová\, Jana Bařinková / Milča Bláhová\, MUDr. Jaromír Veith\, Martina Mondříková\, Pepa Rydl\, Radek Štefela.  \nKomedii ochotníků z Valašské Bystřice s názvem POD PRAPOREM NĚŽNÝCH DAM jsme zařadili do Divadelního předplatného 2014 (31. 1. 2014)\, na které už v současné době není možné sehnat permanentku.  Ale protože víme\, že máte rádi Pepu Šturmu a jeho herecké kolegy z Bystřic\, zahájíme únor stejným způsobem\, jakým v klubu zakončíme lednový kulturní program. Hru uvedeme ještě jednou\, a to v sobotu 1. února 2014! \n \n\n\n
URL:https://www.zubran.cz/akce/divadelni-soubor-chaos-z-valasske-bystrice-pod-praporem-neznych-dam-pro-predplatitele/
LOCATION:Hamerská 10\, 756 54\, Zubří\, 756 54
CATEGORIES:Kultura
ATTACH;FMTTYPE=image/jpeg:https://www.zubran.cz/wp-content/uploads/2014/01/chaos-valašská-bystřice.jpg
END:VEVENT
END:VCALENDAR