BEGIN:VCALENDAR
VERSION:2.0
PRODID:-//Zubřan.cz - ECPv4.6.11.1//NONSGML v1.0//EN
CALSCALE:GREGORIAN
METHOD:PUBLISH
X-WR-CALNAME:Zubřan.cz
X-ORIGINAL-URL:https://www.zubran.cz
X-WR-CALDESC:Events for Zubřan.cz
BEGIN:VEVENT
DTSTART;TZID=UTC+0:20140115T170000
DTEND;TZID=UTC+0:20140115T200000
DTSTAMP:20260421T081910
CREATED:20140114T062210Z
LAST-MODIFIED:20140114T062210Z
UID:4887-1389805200-1389816000@www.zubran.cz
SUMMARY:Zuberská amatérská liga pokračuje šestým kolem
DESCRIPTION:Ve středu\, 15.1.2014\, bude v zuberské kuželně odehráno další kolo Zuberské amatérské ligy v kuželkách. Od 17 hodin se v souboji o první místo utkají týmy TIP cafe a Oktopusu. V 18.30 hod proti sobě nastoupí celky KO-SA a Veteráni. \n\n\n
URL:https://www.zubran.cz/akce/zuberska-amaterska-liga-pokracuje-sestym-kolem/
LOCATION:Sídlištní 744\, Zubří\, 756 54
ATTACH;FMTTYPE=image/jpeg:https://www.zubran.cz/wp-content/uploads/2014/01/Kuzelkarska-liga-5-kolo-008.jpg
ORGANIZER;CN="Josef%20Randus":MAILTO:Josef.randus@mesto-zubri.cz
END:VEVENT
BEGIN:VEVENT
DTSTART;TZID=UTC+0:20140115T183000
DTEND;TZID=UTC+0:20140115T201000
DTSTAMP:20260421T081910
CREATED:20140106T105049Z
LAST-MODIFIED:20140106T105049Z
UID:4828-1389810600-1389816600@www.zubran.cz
SUMMARY:Kino - Přijde letos Ježíšek?
DESCRIPTION:Příběh dvou rodin\, které se rozhodly\, že Vánoce jsou od toho\, aby se konaly dobré skutky a přání se plnila za každou cenu. Šarmantní šedesátník José (Josef Abrhám) se vrací po třiceti letech emigrace v Mexiku do rodné Prahy. Potkává svého dávného kamaráda Rudyho (Václav Postránecký) a bývalou lásku Květu (Libuše Šafránková). Rodné místo Josému připraví řadu svízelných situací. \nŽánr: Komedie\, romantický \nHrají: Josef Abrhám\, Libuše Šafránková\, Václav Postránecký\, Igor Chmela\, Radúz Mácha\, Marian Roden a další \nRežie: Lenka Kny.  Délka filmu: 100 minut. Vstupné: 70 Kč \nhttp://www.csfd.cz/film/330302-prijde-letos-jezisek/videa/ \n    \n  \n  \n\n\n
URL:https://www.zubran.cz/akce/kino-prijde-letos-jezisek/
LOCATION:Hamerská 10\, 756 54\, Zubří\, 756 54
CATEGORIES:Kultura
ATTACH;FMTTYPE=image/jpeg:https://www.zubran.cz/wp-content/uploads/2014/01/ježíšek-1.jpg
END:VEVENT
END:VCALENDAR