BEGIN:VCALENDAR
VERSION:2.0
PRODID:-//Zubřan.cz - ECPv4.6.11.1//NONSGML v1.0//EN
CALSCALE:GREGORIAN
METHOD:PUBLISH
X-WR-CALNAME:Zubřan.cz
X-ORIGINAL-URL:https://www.zubran.cz
X-WR-CALDESC:Events for Zubřan.cz
BEGIN:VEVENT
DTSTART;TZID=UTC+0:20140109T173000
DTEND;TZID=UTC+0:20140109T193000
DTSTAMP:20260419T145208
CREATED:20140106T081529Z
LAST-MODIFIED:20140106T081529Z
UID:4820-1389288600-1389295800@www.zubran.cz
SUMMARY:Křeslo pro hosta s Milenou Habustovou
DESCRIPTION:Beseda s dlouholetou pracovnici Valašského muzea v přírodě o stravování obyvatel městečka Rožnov. \nTematicky se po čase v našem cyklu besed vracíme ke gastronomii a stravování. Do křesla pro hosta usedne vzácná návštěva\, paní Milena Habustová\, která strávila dlouhých 40 let prací pro Valašské muzeum v přírodě. Před dvěma lety napsala a v edici Rožnovské malé tisky vydala publikaci PROSTŘENÝ STŮL ROŽNOVANŮ. Naše beseda ponese stejný název\, ale přinese ještě širší obsah než publikace sama. Řeč bude především o tom\, jak se naši předci na Rožnovsku dříve stravovali. Budou Vám představeny některé recepty\, typické městské pokrmy\, ale také stravování venkovské\, jež bylo ovlivněno intenzivními kontakty se  slovenskými obcemi.  Ve skrytu duše doufáme\, že se nám pro Vás podaří připravit také malou ochutnávku\, ať ten Nový rok přivítáme řádně nasycení a tím pádem i spokojení! \nV následujících měsících je pro Vás připraven další atraktivní program. Návštěvu nám slíbil Jaroslav Jindra\, který s foťákem\, kamerou a tužkou v ruce navštívil přes 100 zemí světa a dokáže fantasticky prezentovat vše\, co ve světě za ty roky zažil\, viděl a pocítil. V současné době ještě máte šanci ovlivnit téma přednášky – inspiraci naleznete na http://www.jaroslav-jindra.cz/.  Březen bude patřit ženě\, kterou většina z Vás velmi dobře zná. O cvičení seniorů (nejen na Kanárských ostrovech) Vám přijde povyprávět Jana Mikulenková z místní organizace ASPV.   \n  \n\n  \n\n\n\n
URL:https://www.zubran.cz/akce/kreslo-pro-hosta-s-milenou-habustovou/
LOCATION:Hamerská 10\, 756 54\, Zubří\, 756 54
CATEGORIES:Kultura
ATTACH;FMTTYPE=image/jpeg:https://www.zubran.cz/wp-content/uploads/2014/01/křeslo_RGB-01-01.jpg
END:VEVENT
END:VCALENDAR