BEGIN:VCALENDAR
VERSION:2.0
PRODID:-//Zubřan.cz - ECPv4.6.11.1//NONSGML v1.0//EN
CALSCALE:GREGORIAN
METHOD:PUBLISH
X-WR-CALNAME:Zubřan.cz
X-ORIGINAL-URL:https://www.zubran.cz
X-WR-CALDESC:Events for Zubřan.cz
BEGIN:VEVENT
DTSTART;TZID=UTC+0:20131017T160000
DTEND;TZID=UTC+0:20131110T170000
DTSTAMP:20260421T083511
CREATED:20131016T141354Z
LAST-MODIFIED:20131016T210449Z
UID:2169-1382025600-1384102800@www.zubran.cz
SUMMARY:Výstava - Valašsko očima rožnovských malířů
DESCRIPTION:  \n  \n  \nSlavnostní vernisáží bude ve čtvrtek 17. října v 16 hodin zahájena výstava VALAŠSKO OČIMA ROŽNOVSKÝCH MALÍŘŮ. Za účasti malířů J. Kaňáta\, V. Bartoška\, J. Zůbka a Š. Krhuta se v rámci vernisáže rozezní i tóny houslí Lukáše Španihela a cimbálu Petra Zetka ml. Na obrázky inspirované malebnou valašskou krajinou\, zátiší\, ale třeba i akty se můžete nejen podívat\, ale budete mít i možnost je zakoupit\, například jako vkusný vánoční dárek. \n  \nJednotícím prvkem celé expozice je Valašsko. Všichni čtyři výtvarníci jej servírují jako na talíři\, tak\, jak ho vidí\, cítí a určitě i milují. Rožnovští neprofesionální výtvarníci se scházejí\, společně tvoří a vystavují již 55 let. Rožnovská výtvarná skupina mívala desítky členů\, dnes do Zubří přijíždějí své dílo ukázat pouze tito čtyři: Jaroslav Kaňát\, Vladimír Bartošek\, Jan Zůbek a Štěpán Krhut. \n  \nVýstava potrvá do 10. listopadu a bude otevřena každý den kromě pondělí\, vždy odpoledne mezi 14 a 17 hodinou. \n \n\n\n
URL:https://www.zubran.cz/akce/vystava-valassko-ocima-roznovskych-maliru/
LOCATION:Zubří\, Zlínský kraj\, 75654\, Česká republika
ATTACH;FMTTYPE=image/jpeg:https://www.zubran.cz/wp-content/uploads/2013/10/pozvánka-výstava-RVS.jpg
ORGANIZER;CN="M%C4%9Bsto%20Zub%C5%99%C3%AD%20-%20Kultura":MAILTO:kultura@mesto-zubri.cz
END:VEVENT
BEGIN:VEVENT
DTSTART;TZID=UTC+0:20131020T103000
DTEND;TZID=UTC+0:20131020T123000
DTSTAMP:20260421T083511
CREATED:20131006T081420Z
LAST-MODIFIED:20131019T182725Z
UID:2058-1382265000-1382272200@www.zubran.cz
SUMMARY:HC zubří - Cement Hranice 8.kolo Triglav Extraligy
DESCRIPTION:  \nPřijďte podpořit i Vy naše hráče v těžkém utkání proti Hranicím. Každý z Vás může pomoct vytvořit atmosféru\, kterou kluci potřebují. Nenechejme je vtom!!! \nZubří – Možná klíčový zápas podzimu nebo i celé sezony čeká v neděli dopoledne na házenkáře Gumáren Zubří. Trápící se Valaši\, kteří zatím ze sedmi zápasů jen dvakrát vyhráli\, totiž v netradičním čase od 10.30 hodin v rámci 8. kola nejvyšší soutěže přivítají úřadujícího vicemistra z Hranic. Především budou domácí chtít přerušit sérii porážek\, kvůli které se ocitli až těsně nad extraligovým dnem. Oba týmy budou mít o motivaci postaráno. Zatímco momentálně druhé Hranice se mohou výhrou nebo i remízou posunout do čela tabulky\, Zubří má úplně jiné starosti. Začátek extraligy se mladému týmu vedenému novým koučem Ćelićem vůbec nepovedl a potřebuje se chytit jakéhokoliv stébla\, nebo by sezona mohla dopadnout tragicky. „Naši mladí hráči jsou pořád psychicky hodně dole\, například po prohraném domácím utkání s Plzní jsme seděli s celým mančaftem v kabině asi dvě hodiny a diskutovali jsme o nastalé špatné situaci. Potřebujeme strašně nutně udělat nějaký výsledek\,“ říká před utkáním zuberský vedoucí týmu Michal Balhárek. Zubřané z prvních šesti kol vytěžili jen dvě výhry a krčí se až skoro na dně tabulky. Právě silný soupeř a úřadující vicemistr a regionální rival v domácím prostředí by mohl být skvělým odrazovým můstkem do lepších časů. „Zápas s Hranicemi bereme skutečně velmi prestižně. Je to pro nás určitě větší derby než třeba se Zlínem. Jednak je to z Hranic výrazně blíže než ze Zlína\, jednak je v obou klubech hodně hráčů\, kteří působili na obou stranách barikády. Z tohoto důvodu to bude skutečně hodně ostré derby\,“ je přesvědčen Balhárek. Podle něj bude potřeba přinejmenším navázat na druhý poločas zápasu minulého kola v Lovosicích (prohra 31:36). „Ve druhé půli tam hráli kluci možná nejlepší házenou sezony. Na to musíme navázat i s Hranicemi. Úspěch se silnými Hranicemi by byl skvělý nakopávák do dalších kol\,“ dodal Balhárek. \n  \nAutor: Marek Havran \nČtěte více na: http://valassky.denik.cz/ostatni_region/hranice-prestiznejsi-derby-nez-se-zlinem-20131019.html \n  \n  \n \n  \n  \n\n\n
URL:https://www.zubran.cz/akce/hc-zubri-cement-hranice-8-kolo-triglav-extraligy/
LOCATION:Hlavni 492\, 75654 Zubří\, Zubří\, Zlínský kraj\, 756 54\, Česká republika
ATTACH;FMTTYPE=image/jpeg:https://www.zubran.cz/wp-content/uploads/2013/10/hrdí.jpg
END:VEVENT
END:VCALENDAR